BEGIN:VCALENDAR
VERSION:2.0
PRODID:-//Lincoln's Inn//NONSGML Events //EN
X-MS-OLK-FORCEINSPECTOROPEN: TRUE
CALSCALE:GREGORIAN
X-WR-CALNAME:Lincoln's Inn
TZ:+00
BEGIN:VEVENT
CREATED:20200916T100851Z
UID:11222
DTEND;VALUE=DATE:20201110T173000Z
DTSTART;VALUE=DATE:20201110T173000Z
DTSTAMP:20260420T085729Z
LOCATION:
SUMMARY:Civil Advocacy Workshop: London Students Only (Online)
URL;VALUE=URI:https://www.lincolnsinn.org.uk/whats-on/advocacy-workshop-online/
TRANSP:OPAQUE
DESCRIPTION:Students will perform a civil advocacy exercise in small groups led by experienced practitioners.
BEGIN:VALARM
ACTION:DISPLAY
TRIGGER;VALUE=DATE-TIME:
DESCRIPTION:Reminder for Civil Advocacy Workshop: London Students Only (Online)
END:VALARM
END:VEVENT
END:VCALENDAR
