BEGIN:VCALENDAR
VERSION:2.0
PRODID:-//Lincoln's Inn//NONSGML Events //EN
X-MS-OLK-FORCEINSPECTOROPEN: TRUE
CALSCALE:GREGORIAN
X-WR-CALNAME:Lincoln's Inn
TZ:+00
BEGIN:VEVENT
CREATED:20210805T103857Z
UID:15311
DTEND;VALUE=DATE:20211129T170000Z
DTSTART;VALUE=DATE:20211129T170000Z
DTSTAMP:20260424T135457Z
LOCATION:
SUMMARY:Hospitality\, Events & Dining Committee
URL;VALUE=URI:https://www.lincolnsinn.org.uk/whats-on/hospitality-events-dining-committee-4/
TRANSP:OPAQUE
DESCRIPTION:
BEGIN:VALARM
ACTION:DISPLAY
TRIGGER;VALUE=DATE-TIME:
DESCRIPTION:Reminder for Hospitality\, Events & Dining Committee
END:VALARM
END:VEVENT
END:VCALENDAR
