BEGIN:VCALENDAR
VERSION:2.0
PRODID:-//Lincoln's Inn//NONSGML Events //EN
X-MS-OLK-FORCEINSPECTOROPEN: TRUE
CALSCALE:GREGORIAN
X-WR-CALNAME:Lincoln's Inn
TZ:+00
BEGIN:VEVENT
CREATED:20181120T105126Z
UID:1583
DTEND;VALUE=DATE:20191002T170000Z
DTSTART;VALUE=DATE:20191002T160000Z
DTSTAMP:20260420T034410Z
LOCATION:
SUMMARY:Hospitality\, Dining & Events Committee
URL;VALUE=URI:https://www.lincolnsinn.org.uk/whats-on/catering-committee-4/
TRANSP:OPAQUE
DESCRIPTION:
BEGIN:VALARM
ACTION:DISPLAY
TRIGGER;VALUE=DATE-TIME:
DESCRIPTION:Reminder for Hospitality\, Dining & Events Committee
END:VALARM
END:VEVENT
END:VCALENDAR
