BEGIN:VCALENDAR
VERSION:2.0
PRODID:-//Lincoln's Inn//NONSGML Events //EN
X-MS-OLK-FORCEINSPECTOROPEN: TRUE
CALSCALE:GREGORIAN
X-WR-CALNAME:Lincoln's Inn
TZ:+00
BEGIN:VEVENT
CREATED:20220201T162327Z
UID:18837
DTSTART;VALUE=DATE:20221205
DTSTAMP:20260425T125547Z
LOCATION:
SUMMARY:Black Books Anniversary Lecture & Dinner: Jonathan Crow KC – 600 Years of Recorded History
URL;VALUE=URI:https://www.lincolnsinn.org.uk/whats-on/black-book-anniversary-lecture-dinner-jonathan-crow-qc-600-years-of-lincolns-inn/
TRANSP:OPAQUE
DESCRIPTION:Join the Treasurer for an exploration of the careers of six illustrious members whose lives and careers exemplify aspects of the history of the Inn, followed by a black-tie dinner.
BEGIN:VALARM
ACTION:DISPLAY
TRIGGER;VALUE=DATE-TIME:
DESCRIPTION:Reminder for Black Books Anniversary Lecture & Dinner: Jonathan Crow KC – 600 Years of Recorded History
END:VALARM
END:VEVENT
END:VCALENDAR
