BEGIN:VCALENDAR
VERSION:2.0
PRODID:-//Lincoln's Inn//NONSGML Events //EN
X-MS-OLK-FORCEINSPECTOROPEN: TRUE
CALSCALE:GREGORIAN
X-WR-CALNAME:Lincoln's Inn
TZ:+00
BEGIN:VEVENT
CREATED:20240327T120656Z
UID:29474
DTEND;VALUE=DATE:20240709T193000Z
DTSTART;VALUE=DATE:20240709T163000Z
DTSTAMP:20260422T051143Z
LOCATION:
SUMMARY:Criminal Advocacy Workshop
URL;VALUE=URI:https://www.lincolnsinn.org.uk/whats-on/criminal-advocacy-workshop-8/
TRANSP:OPAQUE
DESCRIPTION:Students will be sent a Criminal adovcacy exercise a week prior to the session to prepare. 
BEGIN:VALARM
ACTION:DISPLAY
TRIGGER;VALUE=DATE-TIME:
DESCRIPTION:Reminder for Criminal Advocacy Workshop
END:VALARM
END:VEVENT
END:VCALENDAR
