BEGIN:VCALENDAR
VERSION:2.0
PRODID:-//Lincoln's Inn//NONSGML Events //EN
X-MS-OLK-FORCEINSPECTOROPEN: TRUE
CALSCALE:GREGORIAN
X-WR-CALNAME:Lincoln's Inn
TZ:+00
BEGIN:VEVENT
CREATED:20250124T101323Z
UID:34915
DTEND;VALUE=DATE:20250319T200000Z
DTSTART;VALUE=DATE:20250319T180000Z
DTSTAMP:20260422T071820Z
LOCATION:The Ashworth Centre\, Lincoln's Inn and Online 
SUMMARY:A Conversation about Neurodiversity and the Bar
URL;VALUE=URI:https://www.lincolnsinn.org.uk/whats-on/a-conversation-about-neurodiversity-and-the-bar/
TRANSP:OPAQUE
DESCRIPTION:Join us during Neurodiversity Celebration Week to discuss life at the Bar and neurodiversity.
BEGIN:VALARM
ACTION:DISPLAY
TRIGGER;VALUE=DATE-TIME:
DESCRIPTION:Reminder for A Conversation about Neurodiversity and the Bar
END:VALARM
END:VEVENT
END:VCALENDAR
