BEGIN:VCALENDAR
VERSION:2.0
PRODID:-//Lincoln's Inn//NONSGML Events //EN
X-MS-OLK-FORCEINSPECTOROPEN: TRUE
CALSCALE:GREGORIAN
X-WR-CALNAME:Lincoln's Inn
TZ:+00
BEGIN:VEVENT
CREATED:20190219T173946Z
UID:4818
DTEND;VALUE=DATE:20190404T173000Z
DTSTART;VALUE=DATE:20190404T163000Z
DTSTAMP:20260420T044754Z
LOCATION:Chapel
SUMMARY:Sung Compline in Chapel
URL;VALUE=URI:https://www.lincolnsinn.org.uk/whats-on/sung-compline-in-chapel/
TRANSP:OPAQUE
DESCRIPTION: A meditative opportunity for reflection based on the monastic evening office. All are welcome.
BEGIN:VALARM
ACTION:DISPLAY
TRIGGER;VALUE=DATE-TIME:
DESCRIPTION:Reminder for Sung Compline in Chapel
END:VALARM
END:VEVENT
END:VCALENDAR
