BEGIN:VCALENDAR
VERSION:2.0
PRODID:-//Lincoln's Inn//NONSGML Events //EN
X-MS-OLK-FORCEINSPECTOROPEN: TRUE
CALSCALE:GREGORIAN
X-WR-CALNAME:Lincoln's Inn
TZ:+00
BEGIN:VEVENT
CREATED:20190820T122759Z
UID:7282
DTSTART;VALUE=DATE:20200105
DTSTAMP:20260421T144317Z
LOCATION:
SUMMARY:The next Service in Chapel is on 19 January 2020
URL;VALUE=URI:https://www.lincolnsinn.org.uk/whats-on/the-next-service-in-chapel-is-on-19-january-2020/
TRANSP:OPAQUE
DESCRIPTION:
BEGIN:VALARM
ACTION:DISPLAY
TRIGGER;VALUE=DATE-TIME:
DESCRIPTION:Reminder for The next Service in Chapel is on 19 January 2020
END:VALARM
END:VEVENT
END:VCALENDAR
